BEGIN:VCALENDAR
VERSION:2.0
PRODID:Events from www.apparelnews.net
X-WR-CALNAME:Events from www.apparelnews.net
X-WR-CALDESC:Events from www.apparelnews.net
BEGIN:VEVENT
SUMMARY:Japan Jewellery Fair
URL;VALUE=URI:http://www.apparelnews.net/events/2020/oct/16/japan-jewelry-fair-tba-4cd8e71a-2e0-ac2fc9c6/?et=16728
DTSTART:20201016
DESCRIPTION;ENCODING=QUOTED-PRINTABLE:www.japanjewelleryfair.com/en/

END:VEVENT
END:VCALENDAR
