BEGIN:VCALENDAR
VERSION:2.0
PRODID:Events from www.apparelnews.net
X-WR-CALNAME:Events from www.apparelnews.net
X-WR-CALDESC:Events from www.apparelnews.net
BEGIN:VEVENT
SUMMARY:Fashion Week San Diego Virtual Designer Runway Shows
URL;VALUE=URI:http://www.apparelnews.net/events/2020/oct/18/fashion-week-san-diego-tba-647eced8-5f972b5c/?et=17690
DTSTART:20201018
DESCRIPTION;ENCODING=QUOTED-PRINTABLE:http://fashionweeksd.com

END:VEVENT
END:VCALENDAR
