BEGIN:VCALENDAR
VERSION:2.0
PRODID:Events from www.apparelnews.net
X-WR-CALNAME:Events from www.apparelnews.net
X-WR-CALDESC:Events from www.apparelnews.net
BEGIN:VEVENT
SUMMARY:All China Leather Exhibition Shanghai **POSTPONED--Next Show 8/31-9/2/2021
URL;VALUE=URI:http://www.apparelnews.net/events/2020/sep/03/all-china-leather-exhibition-shangh-58e6bf86/?et=17714
DTSTART:20200903
DESCRIPTION;ENCODING=QUOTED-PRINTABLE:https://www.aclechina.com/en-us/

END:VEVENT
END:VCALENDAR
