BEGIN:VCALENDAR
VERSION:2.0
PRODID:Events from www.apparelnews.net
X-WR-CALNAME:Events from www.apparelnews.net
X-WR-CALDESC:Events from www.apparelnews.net
BEGIN:VEVENT
SUMMARY:Fashion and Sustainability Summit Series
URL;VALUE=URI:http://www.apparelnews.net/events/2020/sep/03/fashion-and-sustainability-summit-n-ef8f8b46/?et=17899
DTSTART:20200903T100000
DESCRIPTION;ENCODING=QUOTED-PRINTABLE:http://www.fashiondex.com/series/\n\nEvery Thursday through Nov. 19\, 2020\n\nPresented by Fashiondex and LIM College

END:VEVENT
END:VCALENDAR
