BEGIN:VCALENDAR
VERSION:2.0
PRODID:Events from www.apparelnews.net
X-WR-CALNAME:Events from www.apparelnews.net
X-WR-CALDESC:Events from www.apparelnews.net
BEGIN:VEVENT
SUMMARY:New England Apparel Club Signature Show
URL;VALUE=URI:http://www.apparelnews.net/events/2020/sep/13/new-england-apparel-club-portland-7-81379dae/?et=16064
DTSTART:20200913
DESCRIPTION;ENCODING=QUOTED-PRINTABLE:https://www.neacshow.com/trade-shows

END:VEVENT
END:VCALENDAR
