BEGIN:VCALENDAR
VERSION:2.0
PRODID:Events from www.apparelnews.net
X-WR-CALNAME:Events from www.apparelnews.net
X-WR-CALDESC:Events from www.apparelnews.net
BEGIN:VEVENT
SUMMARY:Kingpins24 Canada
URL;VALUE=URI:http://www.apparelnews.net/events/2020/sep/22/kingpins-online-63def102-3531d204-f-dccbc5ec/?et=17993
DTSTART:20200922
DESCRIPTION;ENCODING=QUOTED-PRINTABLE:www.kingpinsshow.com\n\n&nbsp;

END:VEVENT
END:VCALENDAR
