BEGIN:VCALENDAR
VERSION:2.0
PRODID:Events from www.apparelnews.net
X-WR-CALNAME:Events from www.apparelnews.net
X-WR-CALDESC:Events from www.apparelnews.net
BEGIN:VEVENT
SUMMARY:Denimsandjeans Japan
URL;VALUE=URI:http://www.apparelnews.net/events/2020/sep/30/denimsandjeans-japan/?et=17197
DTSTART:20200930
DESCRIPTION;ENCODING=QUOTED-PRINTABLE:https://www.japan.denimsandjeans.com/

END:VEVENT
END:VCALENDAR
