BEGIN:VCALENDAR
VERSION:2.0
PRODID:Events from www.apparelnews.net
X-WR-CALNAME:Events from www.apparelnews.net
X-WR-CALDESC:Events from www.apparelnews.net
BEGIN:VEVENT
SUMMARY:Arab Fashion Week
URL;VALUE=URI:http://www.apparelnews.net/events/2021/apr/01/dubai-fashion-days-a12bad0a-181ae6ce/?et=19204
DTSTART:20210401
DESCRIPTION;ENCODING=QUOTED-PRINTABLE:http://arabfashionweek.org/dubai-fashion-days/

END:VEVENT
END:VCALENDAR
