BEGIN:VCALENDAR
VERSION:2.0
PRODID:Events from www.apparelnews.net
X-WR-CALNAME:Events from www.apparelnews.net
X-WR-CALDESC:Events from www.apparelnews.net
BEGIN:VEVENT
SUMMARY:Procolombia Virtual Macrorrueda Online
URL;VALUE=URI:http://www.apparelnews.net/events/2021/apr/12/macrorrueda-0a9370e2-3ff8d692-fc272-1a77d878/?et=18674
DTSTART:20210412
DESCRIPTION;ENCODING=QUOTED-PRINTABLE:www.macrorruedasprocolombia.co\n\nBusiness matching forum

END:VEVENT
END:VCALENDAR
