BEGIN:VCALENDAR
VERSION:2.0
PRODID:Events from www.apparelnews.net
X-WR-CALNAME:Events from www.apparelnews.net
X-WR-CALDESC:Events from www.apparelnews.net
BEGIN:VEVENT
SUMMARY:Trendz
URL;VALUE=URI:http://www.apparelnews.net/events/2021/apr/27/trendz-aaaf1d92-721eaf9e-4c6e81bc-7-8e99a886/?et=18699
DTSTART:20210427
DESCRIPTION;ENCODING=QUOTED-PRINTABLE:www.Trendzshow.com\n\n(888) 249-1377

END:VEVENT
END:VCALENDAR
