BEGIN:VCALENDAR
VERSION:2.0
PRODID:Events from www.apparelnews.net
X-WR-CALNAME:Events from www.apparelnews.net
X-WR-CALDESC:Events from www.apparelnews.net
BEGIN:VEVENT
SUMMARY:Stylemax
URL;VALUE=URI:http://www.apparelnews.net/events/2021/aug/15/stylemax-91283bc6-39b61630-92258422-10f83434/?et=19444
DTSTART:20210815
DESCRIPTION;ENCODING=QUOTED-PRINTABLE:http://www.stylemaxonline.com\n\n(800) 677-MART

END:VEVENT
END:VCALENDAR
