BEGIN:VCALENDAR
VERSION:2.0
PRODID:Events from www.apparelnews.net
X-WR-CALNAME:Events from www.apparelnews.net
X-WR-CALDESC:Events from www.apparelnews.net
BEGIN:VEVENT
SUMMARY:American Equestrian Trade Association (AETA) International Trade Show
URL;VALUE=URI:http://www.apparelnews.net/events/2021/aug/24/american-equestrian-trade-association-aeta-interna/?et=19224
DTSTART:20210824
DESCRIPTION;ENCODING=QUOTED-PRINTABLE:http://aetadallas.com/trade-show-information.html

END:VEVENT
END:VCALENDAR
