BEGIN:VCALENDAR
VERSION:2.0
PRODID:Events from www.apparelnews.net
X-WR-CALNAME:Events from www.apparelnews.net
X-WR-CALDESC:Events from www.apparelnews.net
BEGIN:VEVENT
SUMMARY:Project Digital
URL;VALUE=URI:http://www.apparelnews.net/events/2021/feb/01/wwdmagic-68306834-72beafe0-c95b41f0-c9938950/?et=18895
DTSTART:20210201
DESCRIPTION;ENCODING=QUOTED-PRINTABLE:https://www.magicfashionevents.com/en/digital-trade-event/about-digital-event.html\n\nhttps://www.projectfashionevents.com/en/digital-trade-event/about.html

END:VEVENT
END:VCALENDAR
