BEGIN:VCALENDAR
VERSION:2.0
PRODID:Events from www.apparelnews.net
X-WR-CALNAME:Events from www.apparelnews.net
X-WR-CALDESC:Events from www.apparelnews.net
BEGIN:VEVENT
SUMMARY:FIMI Fall Winter
URL;VALUE=URI:http://www.apparelnews.net/events/2021/feb/04/fimi-1e4fa10a-8697e7b6/?et=16898
DTSTART:20210204
DESCRIPTION;ENCODING=QUOTED-PRINTABLE:International Fair for Children and Youth Fashion\n\nhttps://fimi.es/en/

END:VEVENT
END:VCALENDAR
