BEGIN:VCALENDAR
VERSION:2.0
PRODID:Events from www.apparelnews.net
X-WR-CALNAME:Events from www.apparelnews.net
X-WR-CALDESC:Events from www.apparelnews.net
BEGIN:VEVENT
SUMMARY:London Fashion Week
URL;VALUE=URI:http://www.apparelnews.net/events/2021/feb/19/london-fashion-week-92cec778-8c7381-f46d3a4a/?et=18147
DTSTART:20210219
DESCRIPTION;ENCODING=QUOTED-PRINTABLE:https://londonfashionweek.co.uk/\n\nGender neutral online events

END:VEVENT
END:VCALENDAR
