BEGIN:VCALENDAR
VERSION:2.0
PRODID:Events from www.apparelnews.net
X-WR-CALNAME:Events from www.apparelnews.net
X-WR-CALDESC:Events from www.apparelnews.net
BEGIN:VEVENT
SUMMARY:Fashion Industry Gallery (FIG) Spring 2-Summer
URL;VALUE=URI:http://www.apparelnews.net/events/2021/jan/13/fashion-industry-gallery-fig-ba8d60-8a46c0a0/?et=18344
DTSTART:20210113
DESCRIPTION;ENCODING=QUOTED-PRINTABLE:www.fashionindustrygallery.com\n\n(214) 748-4FIG

END:VEVENT
END:VCALENDAR
