BEGIN:VCALENDAR
VERSION:2.0
PRODID:Events from www.apparelnews.net
X-WR-CALNAME:Events from www.apparelnews.net
X-WR-CALDESC:Events from www.apparelnews.net
BEGIN:VEVENT
SUMMARY:WESA Western/English Apparel & Equipment
URL;VALUE=URI:http://www.apparelnews.net/events/2021/jan/17/dallas-western-market-54d49fb0-7469-733f7420/?et=18336
DTSTART:20210117
DESCRIPTION;ENCODING=QUOTED-PRINTABLE:https://wesatradeshow.com/

END:VEVENT
END:VCALENDAR
