BEGIN:VCALENDAR
VERSION:2.0
PRODID:Events from www.apparelnews.net
X-WR-CALNAME:Events from www.apparelnews.net
X-WR-CALDESC:Events from www.apparelnews.net
BEGIN:VEVENT
SUMMARY:ASI Show Virtual Expo
URL;VALUE=URI:http://www.apparelnews.net/events/2021/jan/19/the-asi-show-chicago-59cd3076-85460-db5d4172/?et=18306
DTSTART:20210119
DESCRIPTION;ENCODING=QUOTED-PRINTABLE:https://www.asishow.com

END:VEVENT
END:VCALENDAR
