BEGIN:VCALENDAR
VERSION:2.0
PRODID:Events from www.apparelnews.net
X-WR-CALNAME:Events from www.apparelnews.net
X-WR-CALDESC:Events from www.apparelnews.net
BEGIN:VEVENT
SUMMARY:WWSRA Rocky Mountain January Show
URL;VALUE=URI:http://www.apparelnews.net/events/2021/jan/26/wwsra-rocky-mountain-193e93c4-e6bd0-511a126e/?et=18242
DTSTART:20210126
DESCRIPTION;ENCODING=QUOTED-PRINTABLE:wwsra.com

END:VEVENT
END:VCALENDAR
