BEGIN:VCALENDAR
VERSION:2.0
PRODID:Events from www.apparelnews.net
X-WR-CALNAME:Events from www.apparelnews.net
X-WR-CALDESC:Events from www.apparelnews.net
BEGIN:VEVENT
SUMMARY:Mercedes-Benz Fashion Week Madrid
URL;VALUE=URI:http://www.apparelnews.net/events/2021/jan/27/mercedes-benz-fashion-week-madrid-1-17412bbe/?et=18484
DTSTART:20210127
DESCRIPTION;ENCODING=QUOTED-PRINTABLE:www.ifema.es

END:VEVENT
END:VCALENDAR
