BEGIN:VCALENDAR
VERSION:2.0
PRODID:Events from www.apparelnews.net
X-WR-CALNAME:Events from www.apparelnews.net
X-WR-CALDESC:Events from www.apparelnews.net
BEGIN:VEVENT
SUMMARY:SIA Snow Show & Sourcing Show
URL;VALUE=URI:http://www.apparelnews.net/events/2021/jan/27/sia-snow-show-sourcing-show-887eadb-621913a6/?et=18512
DTSTART:20210127
DESCRIPTION;ENCODING=QUOTED-PRINTABLE:http://www.snowsports.org/snow-show/

END:VEVENT
END:VCALENDAR
