BEGIN:VCALENDAR
VERSION:2.0
PRODID:Events from www.apparelnews.net
X-WR-CALNAME:Events from www.apparelnews.net
X-WR-CALDESC:Events from www.apparelnews.net
BEGIN:VEVENT
SUMMARY:Paraiso Trade Show/Festival Virtual and In-Person
URL;VALUE=URI:http://www.apparelnews.net/events/2021/jul/11/paraiso-trade-showfestival-0f3c3f92-84c8a3e6/?et=18990
DTSTART:20210711
DESCRIPTION;ENCODING=QUOTED-PRINTABLE:https://paraisomiamibeach.com/

END:VEVENT
END:VCALENDAR
