BEGIN:VCALENDAR
VERSION:2.0
PRODID:Events from www.apparelnews.net
X-WR-CALNAME:Events from www.apparelnews.net
X-WR-CALDESC:Events from www.apparelnews.net
BEGIN:VEVENT
SUMMARY:Graphics Pro Expo Meadowlands (formerly The NBM Show)
URL;VALUE=URI:http://www.apparelnews.net/events/2021/jul/15/the-nbm-show-long-beach-260a6038-d9-1dda97f6/?et=19101
DTSTART:20210715
DESCRIPTION;ENCODING=QUOTED-PRINTABLE:https://graphics-pro-expo.com/

END:VEVENT
END:VCALENDAR
