BEGIN:VCALENDAR
VERSION:2.0
PRODID:Events from www.apparelnews.net
X-WR-CALNAME:Events from www.apparelnews.net
X-WR-CALDESC:Events from www.apparelnews.net
BEGIN:VEVENT
SUMMARY:Functional Fabric Fair powered by Performance Days **CANCELED**
URL;VALUE=URI:http://www.apparelnews.net/events/2021/jul/20/functional-fabric-fair-eb6117dc-ce0-e26de864/?et=19126
DTSTART:20210720
DESCRIPTION;ENCODING=QUOTED-PRINTABLE:https://www.functionalfabricfair.com/home/en-us.html

END:VEVENT
END:VCALENDAR
