BEGIN:VCALENDAR
VERSION:2.0
PRODID:Events from www.apparelnews.net
X-WR-CALNAME:Events from www.apparelnews.net
X-WR-CALDESC:Events from www.apparelnews.net
BEGIN:VEVENT
SUMMARY:Hong Kong International Sourcing Show
URL;VALUE=URI:http://www.apparelnews.net/events/2021/jul/29/hong-kong-gifts-premium-fair-4cb618-63dc62f4/?et=19269
DTSTART:20210729
DESCRIPTION;ENCODING=QUOTED-PRINTABLE:https://event.hktdc.com/fair/intlsourcingshow-en/HKTDC-International-Sourcing-Show/

END:VEVENT
END:VCALENDAR
