BEGIN:VCALENDAR
VERSION:2.0
PRODID:Events from www.apparelnews.net
X-WR-CALNAME:Events from www.apparelnews.net
X-WR-CALDESC:Events from www.apparelnews.net
BEGIN:VEVENT
SUMMARY:CMC Uploaded--LA Market Preview
URL;VALUE=URI:http://www.apparelnews.net/events/2021/jun/11/la-kids-market-f1b848de-f12cbb80-1d-4be6f598/?et=18630
DTSTART:20210611
DESCRIPTION;ENCODING=QUOTED-PRINTABLE:http://www.californiamarketcenter.com

END:VEVENT
END:VCALENDAR
