BEGIN:VCALENDAR
VERSION:2.0
PRODID:Events from www.apparelnews.net
X-WR-CALNAME:Events from www.apparelnews.net
X-WR-CALDESC:Events from www.apparelnews.net
BEGIN:VEVENT
SUMMARY:Digital London Fashion Week presented by Clearpay
URL;VALUE=URI:http://www.apparelnews.net/events/2021/jun/12/london-fashion-week-b5b6dfe2-26cb7346/?et=19522
DTSTART:20210612
DESCRIPTION;ENCODING=QUOTED-PRINTABLE:https://londonfashionweek.co.uk/\n\n&nbsp;

END:VEVENT
END:VCALENDAR
