BEGIN:VCALENDAR
VERSION:2.0
PRODID:Events from www.apparelnews.net
X-WR-CALNAME:Events from www.apparelnews.net
X-WR-CALDESC:Events from www.apparelnews.net
BEGIN:VEVENT
SUMMARY:Dallas Apparel & Accessories Market
URL;VALUE=URI:http://www.apparelnews.net/events/2021/jun/15/dallas-apparel-accessories-market-t-ad49079a/?et=18327
DTSTART:20210615
DESCRIPTION;ENCODING=QUOTED-PRINTABLE:http://dallasmarketcenter.com

END:VEVENT
END:VCALENDAR
