BEGIN:VCALENDAR
VERSION:2.0
PRODID:Events from www.apparelnews.net
X-WR-CALNAME:Events from www.apparelnews.net
X-WR-CALDESC:Events from www.apparelnews.net
BEGIN:VEVENT
SUMMARY:Supreme Body & Beach
URL;VALUE=URI:http://www.apparelnews.net/events/2021/mar/03/supreme-celebration-949ad666-08e226-0ca526fe/?et=17281
DTSTART:20210303
DESCRIPTION;ENCODING=QUOTED-PRINTABLE:http://www.munichfashioncompany.com/en/trade-fairs/

END:VEVENT
END:VCALENDAR
