BEGIN:VCALENDAR
VERSION:2.0
PRODID:Events from www.apparelnews.net
X-WR-CALNAME:Events from www.apparelnews.net
X-WR-CALDESC:Events from www.apparelnews.net
BEGIN:VEVENT
SUMMARY:Trends The Apparel Show **CANCELED--Next Show 9/9-12/2021**
URL;VALUE=URI:http://www.apparelnews.net/events/2021/mar/04/trends-the-apparel-show-937a9d9a-46-33b2156c/?et=17893
DTSTART:20210304
DESCRIPTION;ENCODING=QUOTED-PRINTABLE:www.trendsapparel.com

END:VEVENT
END:VCALENDAR
