BEGIN:VCALENDAR
VERSION:2.0
PRODID:Events from www.apparelnews.net
X-WR-CALNAME:Events from www.apparelnews.net
X-WR-CALDESC:Events from www.apparelnews.net
BEGIN:VEVENT
SUMMARY:Dallas Total Home & Gift Market
URL;VALUE=URI:http://www.apparelnews.net/events/2021/mar/26/dallas-apparel-accessories-market-t-94c5481e/?et=18326
DTSTART:20210326
DESCRIPTION;ENCODING=QUOTED-PRINTABLE:http://dallasmarketcenter.com

END:VEVENT
END:VCALENDAR
