BEGIN:VCALENDAR
VERSION:2.0
PRODID:Events from www.apparelnews.net
X-WR-CALNAME:Events from www.apparelnews.net
X-WR-CALDESC:Events from www.apparelnews.net
BEGIN:VEVENT
SUMMARY:Sportswear Pro (TBA)
URL;VALUE=URI:http://www.apparelnews.net/events/2021/mar/31/sportswear-pro-93719dda-2df3d074-67-a6671072/?et=17945
DTSTART:20210331
DESCRIPTION;ENCODING=QUOTED-PRINTABLE:https://www.sportswearpro.com/

END:VEVENT
END:VCALENDAR
