BEGIN:VCALENDAR
VERSION:2.0
PRODID:Events from www.apparelnews.net
X-WR-CALNAME:Events from www.apparelnews.net
X-WR-CALDESC:Events from www.apparelnews.net
BEGIN:VEVENT
SUMMARY:IFJAG Orlando
URL;VALUE=URI:http://www.apparelnews.net/events/2021/may/14/ifjag-a342bd0c-235cb2a6-51662758-0e-0cf79238/?et=17753
DTSTART:20210514
DESCRIPTION;ENCODING=QUOTED-PRINTABLE:www.ifjag.com

END:VEVENT
END:VCALENDAR
