BEGIN:VCALENDAR
VERSION:2.0
PRODID:Events from www.apparelnews.net
X-WR-CALNAME:Events from www.apparelnews.net
X-WR-CALDESC:Events from www.apparelnews.net
BEGIN:VEVENT
SUMMARY:Dye+Chem Morocco International Expo
URL;VALUE=URI:http://www.apparelnews.net/events/2021/nov/24/textech-international-expo-f11453d8-0eb42e14/?et=19388
DTSTART:20211124
DESCRIPTION;ENCODING=QUOTED-PRINTABLE:www.cems-textech.com

END:VEVENT
END:VCALENDAR
