BEGIN:VCALENDAR
VERSION:2.0
PRODID:Events from www.apparelnews.net
X-WR-CALNAME:Events from www.apparelnews.net
X-WR-CALDESC:Events from www.apparelnews.net
BEGIN:VEVENT
SUMMARY:Aberdeen Fashion Week
URL;VALUE=URI:http://www.apparelnews.net/events/2021/oct/30/aberdeen-fashion-week-fc6a6e56-ae8a-e1d5317e/?et=20248
DTSTART:20211030
DESCRIPTION;ENCODING=QUOTED-PRINTABLE:aberdeenfashionweek.org

END:VEVENT
END:VCALENDAR
