BEGIN:VCALENDAR
VERSION:2.0
PRODID:Events from www.apparelnews.net
X-WR-CALNAME:Events from www.apparelnews.net
X-WR-CALDESC:Events from www.apparelnews.net
BEGIN:VEVENT
SUMMARY:All China Leather Exhibition Shanghai
URL;VALUE=URI:http://www.apparelnews.net/events/2021/sep/01/all-china-leather-exhibition-shangh-8e676faa/?et=17876
DTSTART:20210901
DESCRIPTION;ENCODING=QUOTED-PRINTABLE:https://www.aclechina.com/en-us/

END:VEVENT
END:VCALENDAR
