BEGIN:VCALENDAR
VERSION:2.0
PRODID:Events from www.apparelnews.net
X-WR-CALNAME:Events from www.apparelnews.net
X-WR-CALDESC:Events from www.apparelnews.net
BEGIN:VEVENT
SUMMARY:Munich Fabric Start\, Bluezone
URL;VALUE=URI:http://www.apparelnews.net/events/2021/sep/01/munich-fabric-start-1662c54a-2d8632-1748bfc6/?et=19506
DTSTART:20210901
DESCRIPTION;ENCODING=QUOTED-PRINTABLE:http://www.munichfabricstart.com/

END:VEVENT
END:VCALENDAR
