BEGIN:VCALENDAR
VERSION:2.0
PRODID:Events from www.apparelnews.net
X-WR-CALNAME:Events from www.apparelnews.net
X-WR-CALDESC:Events from www.apparelnews.net
BEGIN:VEVENT
SUMMARY:Mercedes-Benz Fashion Week Madrid
URL;VALUE=URI:http://www.apparelnews.net/events/2021/sep/19/mercedes-benz-fashion-week-madrid-1-60c72e08/?et=19838
DTSTART:20210919
DESCRIPTION;ENCODING=QUOTED-PRINTABLE:www.ifema.es

END:VEVENT
END:VCALENDAR
