BEGIN:VCALENDAR
VERSION:2.0
PRODID:Events from www.apparelnews.net
X-WR-CALNAME:Events from www.apparelnews.net
X-WR-CALDESC:Events from www.apparelnews.net
BEGIN:VEVENT
SUMMARY:Dallas Design Week
URL;VALUE=URI:http://www.apparelnews.net/events/2021/sep/23/dallas-design-week-t-85dd906c-4c178-54c79090/?et=19226
DTSTART:20210923
DESCRIPTION;ENCODING=QUOTED-PRINTABLE:http://dallasmarketcenter.com

END:VEVENT
END:VCALENDAR
