BEGIN:VCALENDAR
VERSION:2.0
PRODID:Events from www.apparelnews.net
X-WR-CALNAME:Events from www.apparelnews.net
X-WR-CALDESC:Events from www.apparelnews.net
BEGIN:VEVENT
SUMMARY:Michigan Women's Wear Market
URL;VALUE=URI:http://www.apparelnews.net/events/2022/apr/04/michigan-womens-wear-market-tba-bdd-643781e6/?et=20210
DTSTART:20220404
DESCRIPTION;ENCODING=QUOTED-PRINTABLE:http://www.silverliningshows.com/\n\nMetro-Michigan Show

END:VEVENT
END:VCALENDAR
