BEGIN:VCALENDAR
VERSION:2.0
PRODID:Events from www.apparelnews.net
X-WR-CALNAME:Events from www.apparelnews.net
X-WR-CALDESC:Events from www.apparelnews.net
BEGIN:VEVENT
SUMMARY:Just Around the Corner
URL;VALUE=URI:http://www.apparelnews.net/events/2022/aug/07/just-around-corner-81da543a/?et=21352
DTSTART:20220807
DESCRIPTION;ENCODING=QUOTED-PRINTABLE:https://www.justaroundthecorner.co.uk/

END:VEVENT
END:VCALENDAR
