BEGIN:VCALENDAR
VERSION:2.0
PRODID:Events from www.apparelnews.net
X-WR-CALNAME:Events from www.apparelnews.net
X-WR-CALDESC:Events from www.apparelnews.net
BEGIN:VEVENT
SUMMARY:Texcare Asia\, China Laundry Expo
URL;VALUE=URI:http://www.apparelnews.net/events/2022/aug/11/texcare-asia-china-laundry-expo/?et=21008
DTSTART:20220811
DESCRIPTION;ENCODING=QUOTED-PRINTABLE:https://texcare-asia.hk.messefrankfurt.com/shanghai/en.html

END:VEVENT
END:VCALENDAR
