BEGIN:VCALENDAR
VERSION:2.0
PRODID:Events from www.apparelnews.net
X-WR-CALNAME:Events from www.apparelnews.net
X-WR-CALDESC:Events from www.apparelnews.net
BEGIN:VEVENT
SUMMARY:American Equestrian Trade Association (AETA) International Trade Show
URL;VALUE=URI:http://www.apparelnews.net/events/2022/aug/23/american-equestrian-trade-associati-2623dcee/?et=21064
DTSTART:20220823
DESCRIPTION;ENCODING=QUOTED-PRINTABLE:http://aetadallas.com/trade-show-information.html

END:VEVENT
END:VCALENDAR
