BEGIN:VCALENDAR
VERSION:2.0
PRODID:Events from www.apparelnews.net
X-WR-CALNAME:Events from www.apparelnews.net
X-WR-CALDESC:Events from www.apparelnews.net
BEGIN:VEVENT
SUMMARY:Dallas Kidsworld Market
URL;VALUE=URI:http://www.apparelnews.net/events/2022/aug/23/kidsworld-87018f46-6fc77ea0-0d632b6-b54c488a/?et=21062
DTSTART:20220823
DESCRIPTION;ENCODING=QUOTED-PRINTABLE:http://dallasmarketcenter.com

END:VEVENT
END:VCALENDAR
