BEGIN:VCALENDAR
VERSION:2.0
PRODID:Events from www.apparelnews.net
X-WR-CALNAME:Events from www.apparelnews.net
X-WR-CALDESC:Events from www.apparelnews.net
BEGIN:VEVENT
SUMMARY:All China Leather Exhibition Shanghai
URL;VALUE=URI:http://www.apparelnews.net/events/2022/aug/31/all-china-leather-exhibition-shangh-9c104bba/?et=20883
DTSTART:20220831
DESCRIPTION;ENCODING=QUOTED-PRINTABLE:https://www.aclechina.com/en-us/

END:VEVENT
END:VCALENDAR
