BEGIN:VCALENDAR
VERSION:2.0
PRODID:Events from www.apparelnews.net
X-WR-CALNAME:Events from www.apparelnews.net
X-WR-CALDESC:Events from www.apparelnews.net
BEGIN:VEVENT
SUMMARY:Dhaka International Yarn & Fabric Show
URL;VALUE=URI:http://www.apparelnews.net/events/2022/aug/31/yarn-fabric-bangledesh-d4f54e98-255-97a45f12/?et=20896
DTSTART:20220831
DESCRIPTION;ENCODING=QUOTED-PRINTABLE:https://bd.cems-yarnandfabric.com/

END:VEVENT
END:VCALENDAR
