BEGIN:VCALENDAR
VERSION:2.0
PRODID:Events from www.apparelnews.net
X-WR-CALNAME:Events from www.apparelnews.net
X-WR-CALDESC:Events from www.apparelnews.net
BEGIN:VEVENT
SUMMARY:Mid-South Jewelry and Accessories Fair
URL;VALUE=URI:http://www.apparelnews.net/events/2022/dec/18/international-jewelry-and-merchandi-c3dfca5e/?et=21504
DTSTART:20221218
DESCRIPTION;ENCODING=QUOTED-PRINTABLE:http://www.helenbrett.com

END:VEVENT
END:VCALENDAR
