BEGIN:VCALENDAR
VERSION:2.0
PRODID:Events from www.apparelnews.net
X-WR-CALNAME:Events from www.apparelnews.net
X-WR-CALDESC:Events from www.apparelnews.net
BEGIN:VEVENT
SUMMARY:Londonedge
URL;VALUE=URI:http://www.apparelnews.net/events/2022/feb/07/londonedge-16219e08-3bf39926-4d9f8b-da6577e4/?et=20190
DTSTART:20220207
DESCRIPTION;ENCODING=QUOTED-PRINTABLE:www.londonedge.com\n\n+44 (0) 116 289 8249

END:VEVENT
END:VCALENDAR
