BEGIN:VCALENDAR
VERSION:2.0
PRODID:Events from www.apparelnews.net
X-WR-CALNAME:Events from www.apparelnews.net
X-WR-CALDESC:Events from www.apparelnews.net
BEGIN:VEVENT
SUMMARY:Premiere Vision New York
URL;VALUE=URI:http://www.apparelnews.net/events/2022/jan/18/premiere-vision-new-york-7b6fff12-5-a4d00f04/?et=19703
DTSTART:20220118
DESCRIPTION;ENCODING=QUOTED-PRINTABLE:https://www.premierevision-newyork.com/

END:VEVENT
END:VCALENDAR
