BEGIN:VCALENDAR
VERSION:2.0
PRODID:Events from www.apparelnews.net
X-WR-CALNAME:Events from www.apparelnews.net
X-WR-CALDESC:Events from www.apparelnews.net
BEGIN:VEVENT
SUMMARY:Spinexpo London
URL;VALUE=URI:http://www.apparelnews.net/events/2022/jan/19/spinexpo-799a56ee-775d3412-948418dc-14ee39ea/?et=20100
DTSTART:20220119
DESCRIPTION;ENCODING=QUOTED-PRINTABLE:http://www.spinexpo.com

END:VEVENT
END:VCALENDAR
